BEGIN:VCALENDAR
VERSION:2.0
PRODID:-//Institución Sweet - ECPv6.11.1//NONSGML v1.0//EN
CALSCALE:GREGORIAN
METHOD:PUBLISH
X-ORIGINAL-URL:https://institucionsweet.cl
X-WR-CALDESC:Eventos para Institución Sweet
REFRESH-INTERVAL;VALUE=DURATION:PT1H
X-Robots-Tag:noindex
X-PUBLISHED-TTL:PT1H
BEGIN:VTIMEZONE
TZID:UTC
BEGIN:STANDARD
TZOFFSETFROM:+0000
TZOFFSETTO:+0000
TZNAME:UTC
DTSTART:20230101T000000
END:STANDARD
END:VTIMEZONE
BEGIN:VEVENT
DTSTART;TZID=UTC:20231220T090000
DTEND;TZID=UTC:20231221T160000
DTSTAMP:20260420T041705
CREATED:20231116T123630Z
LAST-MODIFIED:20231116T123634Z
UID:308-1703062800-1703174400@institucionsweet.cl
SUMMARY:Oficialización de Matriculas 2024
DESCRIPTION:Oficialización de Matriculas de estudiantes antiguos
URL:https://institucionsweet.cl/event/oficializacion-de-matriculas-2024/
LOCATION:Jardin\, Sargento Aldea 1057\, Santiago\, Metropolitana\, Chile
CATEGORIES:Matriculas 2024
ORGANIZER;CN="Institucion Sweet":MAILTO:contacto@institucionsweet.cl
END:VEVENT
BEGIN:VEVENT
DTSTART;TZID=UTC:20231030T113000
DTEND;TZID=UTC:20231103T160000
DTSTAMP:20260420T041705
CREATED:20231116T112509Z
LAST-MODIFIED:20231116T123339Z
UID:272-1698665400-1699027200@institucionsweet.cl
SUMMARY:Matriculas año 2024
DESCRIPTION:Proceso de Matriculas año 2024\, Nuevos Estudiantes
URL:https://institucionsweet.cl/event/matriculas-ano-2024/
LOCATION:Jardin\, Sargento Aldea 1057\, Santiago\, Metropolitana\, Chile
CATEGORIES:Matriculas 2024
ORGANIZER;CN="Institucion Sweet":MAILTO:contacto@institucionsweet.cl
END:VEVENT
END:VCALENDAR